BEGIN:VCALENDAR
VERSION:2.0
PRODID:-//Società Storica Lombarda ETS - ECPv6.3.5//NONSGML v1.0//EN
CALSCALE:GREGORIAN
METHOD:PUBLISH
X-WR-CALNAME:Società Storica Lombarda ETS
X-ORIGINAL-URL:https://www.societastoricalombarda.it
X-WR-CALDESC:Eventi per Società Storica Lombarda ETS
REFRESH-INTERVAL;VALUE=DURATION:PT1H
X-Robots-Tag:noindex
X-PUBLISHED-TTL:PT1H
BEGIN:VTIMEZONE
TZID:Europe/Rome
BEGIN:DAYLIGHT
TZOFFSETFROM:+0100
TZOFFSETTO:+0200
TZNAME:CEST
DTSTART:20260329T010000
END:DAYLIGHT
BEGIN:STANDARD
TZOFFSETFROM:+0200
TZOFFSETTO:+0100
TZNAME:CET
DTSTART:20261025T010000
END:STANDARD
END:VTIMEZONE
BEGIN:VEVENT
DTSTART;TZID=Europe/Rome:20260311T173000
DTEND;TZID=Europe/Rome:20260311T193000
DTSTAMP:20260420T002251
CREATED:20260320T090129Z
LAST-MODIFIED:20260320T090129Z
UID:11217-1773250200-1773257400@www.societastoricalombarda.it
SUMMARY:Arte\, economia\, istituzioni: nuovi studi dall'Archivio Storico Lombardo
DESCRIPTION:Presentazione del volume 2025 – anno CLI \nSaluti\nCecilia Angeletti\, Biblioteca Nazionale Braidense\nGian Giacomo Attolico Trivulzio\, Presidente Società Storica Lombarda ETS\nGiuseppe Maino\, Presidente Fondazione BCC \nIntervengono\nGianpiero Fumi\, Direttore «Archivio Storico Lombardo»\, Università Cattolica del Sacro Cuore\nMarica Forni\, Politecnico di Milano \nCon il contributo di\nLa conferenza sarà visibile in diretta sul canale YouTube della Società Storica Lombarda ETS\nhttps://www.youtube.com/channel/UCS1XSZww70wfDuH4wk1XMxg \nNell’occasione i Soci potranno ritirare una copia del volume\nPer informazioni: storica@tiscalinet.it – via Brera 28\, 20121 Milano \nScarica la locandina
URL:https://www.societastoricalombarda.it/evento/arte-economia-istituzioni-nuovi-studi-dallarchivio-storico-lombardo/
LOCATION:Biblioteca Nazionale Braidense\, Via Brera\, 28\, Milano\, 20121\, Italy
ATTACH;FMTTYPE=image/webp:https://www.societastoricalombarda.it/wp-content/uploads/2026/03/Immagine-invito-ASL.webp
END:VEVENT
END:VCALENDAR